BEGIN:VCALENDAR
VERSION:2.0
PRODID:-//jEvents 1.5 for Joomla//EN
BEGIN:VEVENT
UID:fafb0f1aa8eb7179e223cd6f60752e1b
CATEGORIES:MuellKalender
SUMMARY:schwarz
LOCATION:
DESCRIPTION;ENCODING=QUOTED-PRINTABLE:

DTSTAMP:20260424T195832
DTSTART:20170217T000000
DTEND:20170217T235959
SEQUENCE:0
TRANSP:OPAQUE
END:VEVENT
END:VCALENDAR