BEGIN:VCALENDAR
VERSION:2.0
PRODID:-//jEvents 1.5 for Joomla//EN
BEGIN:VEVENT
UID:75d8bf00d38856ea22c552d30beb3c8a
CATEGORIES:MuellKalender
SUMMARY:schwarz, gruen
LOCATION:
DESCRIPTION;ENCODING=QUOTED-PRINTABLE:

DTSTAMP:20260424T233642
DTSTART:20170428T000000
DTEND:20170428T235959
SEQUENCE:0
TRANSP:OPAQUE
END:VEVENT
END:VCALENDAR