BEGIN:VCALENDAR
VERSION:2.0
PRODID:-//jEvents 1.5 for Joomla//EN
BEGIN:VEVENT
UID:cf34343befa0d8b186acbe059c6523c0
CATEGORIES:MuellKalender
SUMMARY:schwarz, gruen
LOCATION:
DESCRIPTION;ENCODING=QUOTED-PRINTABLE:

DTSTAMP:20260425T012209
DTSTART:20170527T000000
DTEND:20170527T235959
SEQUENCE:0
TRANSP:OPAQUE
END:VEVENT
END:VCALENDAR