BEGIN:VCALENDAR
VERSION:2.0
PRODID:-//jEvents 1.5 for Joomla//EN
BEGIN:VEVENT
UID:5e467a0028fa46adf2475c10116e426b
CATEGORIES:Adenstedt aktuell
SUMMARY:Konzert im Odin
LOCATION:
DESCRIPTION;ENCODING=QUOTED-PRINTABLE:\n\nDer Bürgercorps feiert (als Oktoberfest) ein Konzert mit Blasmusik im 
 Odin\n

DTSTAMP:20260423T010355
DTSTART:20171014T000000
DTEND:20171014T235959
SEQUENCE:0
TRANSP:OPAQUE
END:VEVENT
END:VCALENDAR