BEGIN:VCALENDAR
VERSION:2.0
PRODID:-//jEvents 1.5 for Joomla//EN
BEGIN:VEVENT
UID:c858b21f1e87949731f320c004f6da5b
CATEGORIES:Adenstedt aktuell
SUMMARY:Informationen zur neuen Schulpoloitik
LOCATION:Festssäale Ilsede
DESCRIPTION;ENCODING=QUOTED-PRINTABLE:\n\ndie Verwaltung stellt die Ideen zur zukünftigen Schulpolitik dar.\n\n\
 nFestssäale Ilsede\n

DTSTAMP:20260423T010356
DTSTART:20171019T190000
DTEND:20171019T150000
SEQUENCE:0
TRANSP:OPAQUE
END:VEVENT
END:VCALENDAR