BEGIN:VCALENDAR
VERSION:2.0
PRODID:-//jEvents 1.5 for Joomla//EN
BEGIN:VEVENT
UID:fa0dd51e75b378054f12ec1e4439848a
CATEGORIES:Adenstedt aktuell
SUMMARY:Tannebaumeinsammeln 
LOCATION:
DESCRIPTION;ENCODING=QUOTED-PRINTABLE:\n\nAm Samstag, den 13.01.2018, ab 10.30 Uhr sammelt der Handballförderkre
 is gegen eine kleine Spende wieder die abgeschmückten Tannenbäume ein. Di
 e ausgemusterten Bäume bitte an den Hauseingängen/Hofeinfahrten bereitleg
 en. Die Helferinnen und Helfer treffen sich um 10.00 Uhr am Gerätehaus.\n
CONTACT:http://www.sg-adenstedt.de/index.php/berichte/987-tannebaumeinsammeln-2018

DTSTAMP:20260424T231947
DTSTART:20180113T000000
DTEND:20180113T235959
SEQUENCE:0
TRANSP:OPAQUE
END:VEVENT
END:VCALENDAR