BEGIN:VCALENDAR
VERSION:2.0
PRODID:-//jEvents 1.5 for Joomla//EN
BEGIN:VEVENT
UID:257e594cb301f601c7dbab71d584fbf6
CATEGORIES:Adenstedt aktuell
SUMMARY:Ortsratssitzung Schulentwicklungsplanung
LOCATION:
DESCRIPTION;ENCODING=QUOTED-PRINTABLE:\n\nIm Odinshain.\n\n\nHier soll als Beschlußvorlage der Neubau einer Schu
 le in Gadenstedt beschlossen werden!\n

DTSTAMP:20260424T231946
DTSTART:20180411T190000
DTEND:20180411T150000
SEQUENCE:0
TRANSP:OPAQUE
END:VEVENT
END:VCALENDAR