BEGIN:VCALENDAR
VERSION:2.0
PRODID:-//jEvents 1.5 for Joomla//EN
BEGIN:VEVENT
UID:9868fb4feba3fc17aa5b6fef5f4b0d5a
CATEGORIES:Adenstedt aktuell
SUMMARY:10. Bockbieranstich 
LOCATION:
DESCRIPTION;ENCODING=QUOTED-PRINTABLE:\n\nam Feuerwehrhaus\n

DTSTAMP:20260424T232014
DTSTART:20180501T110000
DTEND:20180501T150000
SEQUENCE:0
TRANSP:OPAQUE
END:VEVENT
END:VCALENDAR