BEGIN:VCALENDAR
VERSION:2.0
PRODID:-//jEvents 1.5 for Joomla//EN
BEGIN:VEVENT
UID:ece70ae267d38f45323b62e883e1a3a3
CATEGORIES:MuellKalender
SUMMARY:schwarz
LOCATION:
DESCRIPTION;ENCODING=QUOTED-PRINTABLE:

DTSTAMP:20260426T005759
DTSTART:20201204T000000
DTEND:20201204T235959
SEQUENCE:0
TRANSP:OPAQUE
END:VEVENT
END:VCALENDAR