BEGIN:VCALENDAR
VERSION:2.0
PRODID:-//jEvents 1.5 for Joomla//EN
BEGIN:VEVENT
UID:be08f62fc8e411eae0bef1ccdfd02191
CATEGORIES:MuellKalender
SUMMARY:grün
LOCATION:
DESCRIPTION;ENCODING=QUOTED-PRINTABLE:

DTSTAMP:20260426T005759
DTSTART:20201224T000000
DTEND:20201224T235959
SEQUENCE:0
TRANSP:OPAQUE
END:VEVENT
END:VCALENDAR