BEGIN:VCALENDAR
VERSION:2.0
PRODID:-//jEvents 1.5 for Joomla//EN
BEGIN:VEVENT
UID:0c1b91ba4522c2a8d1e00771d6c64b8b
CATEGORIES:MuellKalender
SUMMARY:schwarz
LOCATION:
DESCRIPTION;ENCODING=QUOTED-PRINTABLE:

DTSTAMP:20260419T151012
DTSTART:20150109T000000
DTEND:20150109T235959
SEQUENCE:0
TRANSP:OPAQUE
END:VEVENT
END:VCALENDAR