BEGIN:VCALENDAR
VERSION:2.0
PRODID:-//jEvents 1.5 for Joomla//EN
BEGIN:VEVENT
UID:4e0b0210314382c62b19ff186ec6479c
CATEGORIES:MuellKalender
SUMMARY:schwarz
LOCATION:
DESCRIPTION;ENCODING=QUOTED-PRINTABLE:

DTSTAMP:20260421T151302
DTSTART:20150220T000000
DTEND:20150220T235959
SEQUENCE:0
TRANSP:OPAQUE
END:VEVENT
END:VCALENDAR