BEGIN:VCALENDAR
VERSION:2.0
PRODID:-//jEvents 1.5 for Joomla//EN
BEGIN:VEVENT
UID:253a9667ed512d779fdc180791025f43
CATEGORIES:MuellKalender
SUMMARY:gruen
LOCATION:
DESCRIPTION;ENCODING=QUOTED-PRINTABLE:

DTSTAMP:20260422T124641
DTSTART:20150814T000000
DTEND:20150814T235959
SEQUENCE:0
TRANSP:OPAQUE
END:VEVENT
END:VCALENDAR