BEGIN:VCALENDAR
VERSION:2.0
PRODID:-//jEvents 1.5 for Joomla//EN
BEGIN:VEVENT
UID:c7a068c80ff34d8d2f9ca754f4cad4c8
CATEGORIES:MuellKalender
SUMMARY:gruen
LOCATION:
DESCRIPTION;ENCODING=QUOTED-PRINTABLE:

DTSTAMP:20260421T170934
DTSTART:20160617T000000
DTEND:20160617T235959
SEQUENCE:0
TRANSP:OPAQUE
END:VEVENT
END:VCALENDAR