BEGIN:VCALENDAR
VERSION:2.0
PRODID:-//jEvents 1.5 for Joomla//EN
BEGIN:VEVENT
UID:5e34522c7c6b48f7c753587be21d6aeb
CATEGORIES:MuellKalender
SUMMARY:schwarz, gruen
LOCATION:
DESCRIPTION;ENCODING=QUOTED-PRINTABLE:

DTSTAMP:20260421T224830
DTSTART:20160708T000000
DTEND:20160708T235959
SEQUENCE:0
TRANSP:OPAQUE
END:VEVENT
END:VCALENDAR