BEGIN:VCALENDAR
VERSION:2.0
PRODID:-//jEvents 1.5 for Joomla//EN
BEGIN:VEVENT
UID:6957affab65f865992bad9e36c89151b
CATEGORIES:MuellKalender
SUMMARY:gruen
LOCATION:
DESCRIPTION;ENCODING=QUOTED-PRINTABLE:

DTSTAMP:20260422T001631
DTSTART:20160812T000000
DTEND:20160812T235959
SEQUENCE:0
TRANSP:OPAQUE
END:VEVENT
END:VCALENDAR