BEGIN:VCALENDAR
VERSION:2.0
PRODID:-//jEvents 1.5 for Joomla//EN
BEGIN:VEVENT
UID:25213f788517122f949c565fafc33827
CATEGORIES:MuellKalender
SUMMARY:schwarz, gruen
LOCATION:
DESCRIPTION;ENCODING=QUOTED-PRINTABLE:

DTSTAMP:20260422T013232
DTSTART:20160902T000000
DTEND:20160902T235959
SEQUENCE:0
TRANSP:OPAQUE
END:VEVENT
END:VCALENDAR