BEGIN:VCALENDAR
VERSION:2.0
PRODID:-//jEvents 1.5 for Joomla//EN
BEGIN:VEVENT
UID:f5eb96f34cb28713a795e108c3a9cde4
CATEGORIES:MuellKalender
SUMMARY:schwarz, gruen
LOCATION:
DESCRIPTION;ENCODING=QUOTED-PRINTABLE:

DTSTAMP:20260422T045526
DTSTART:20160916T000000
DTEND:20160916T235959
SEQUENCE:0
TRANSP:OPAQUE
END:VEVENT
END:VCALENDAR