BEGIN:VCALENDAR
VERSION:2.0
PRODID:-//jEvents 1.5 for Joomla//EN
BEGIN:VEVENT
UID:7d309d4f484ba9cdbc71fd2c97b9bd9d
CATEGORIES:MuellKalender
SUMMARY:gruen, gelb, blau
LOCATION:
DESCRIPTION;ENCODING=QUOTED-PRINTABLE:

DTSTAMP:20260422T063815
DTSTART:20161021T000000
DTEND:20161021T235959
SEQUENCE:0
TRANSP:OPAQUE
END:VEVENT
END:VCALENDAR