BEGIN:VCALENDAR
VERSION:2.0
PRODID:-//jEvents 1.5 for Joomla//EN
BEGIN:VEVENT
UID:8d4a1b08e676a39e8ad72c62ba1b4586
CATEGORIES:MuellKalender
SUMMARY:schwarz, gruen
LOCATION:
DESCRIPTION;ENCODING=QUOTED-PRINTABLE:

DTSTAMP:20260422T063814
DTSTART:20161028T000000
DTEND:20161028T235959
SEQUENCE:0
TRANSP:OPAQUE
END:VEVENT
END:VCALENDAR