BEGIN:VCALENDAR
VERSION:2.0
PRODID:-//jEvents 1.5 for Joomla//EN
BEGIN:VEVENT
UID:5b7e41f118459a6ea6b4eea10459cee8
CATEGORIES:MuellKalender
SUMMARY:gruen
LOCATION:
DESCRIPTION;ENCODING=QUOTED-PRINTABLE:

DTSTAMP:20260422T092648
DTSTART:20161104T000000
DTEND:20161104T235959
SEQUENCE:0
TRANSP:OPAQUE
END:VEVENT
END:VCALENDAR