BEGIN:VCALENDAR
VERSION:2.0
PRODID:-//jEvents 1.5 for Joomla//EN
BEGIN:VEVENT
UID:ae382d3f92a18cc0cac56a066f383bc6
CATEGORIES:MuellKalender
SUMMARY:gruen, gelb, blau
LOCATION:
DESCRIPTION;ENCODING=QUOTED-PRINTABLE:

DTSTAMP:20260422T081926
DTSTART:20161118T000000
DTEND:20161118T235959
SEQUENCE:0
TRANSP:OPAQUE
END:VEVENT
END:VCALENDAR