BEGIN:VCALENDAR
VERSION:2.0
PRODID:-//jEvents 1.5 for Joomla//EN
BEGIN:VEVENT
UID:58fcb1fec8dca3e0addfbe3321a66ebf
CATEGORIES:MuellKalender
SUMMARY:schwarz
LOCATION:
DESCRIPTION;ENCODING=QUOTED-PRINTABLE:

DTSTAMP:20260422T081926
DTSTART:20161125T000000
DTEND:20161125T235959
SEQUENCE:0
TRANSP:OPAQUE
END:VEVENT
END:VCALENDAR