BEGIN:VCALENDAR
VERSION:2.0
PRODID:-//jEvents 1.5 for Joomla//EN
BEGIN:VEVENT
UID:7b79014be1b0a345ff3c7cdc5807297d
CATEGORIES:MuellKalender
SUMMARY:schwarz, grün
LOCATION:
DESCRIPTION;ENCODING=QUOTED-PRINTABLE:

DTSTAMP:20260419T151013
DTSTART:20101022T000000
DTEND:20101022T235959
SEQUENCE:0
TRANSP:OPAQUE
END:VEVENT
END:VCALENDAR