BEGIN:VCALENDAR
VERSION:2.0
PRODID:-//jEvents 1.5 for Joomla//EN
BEGIN:VEVENT
UID:636bdab07934e7dab2e72a14ce78e5d4
CATEGORIES:MuellKalender
SUMMARY:gruen
LOCATION:
DESCRIPTION;ENCODING=QUOTED-PRINTABLE:

DTSTAMP:20260421T123031
DTSTART:20160324T000000
DTEND:20160324T235959
SEQUENCE:0
TRANSP:OPAQUE
END:VEVENT
END:VCALENDAR