BEGIN:VCALENDAR
VERSION:2.0
PRODID:-//jEvents 1.5 for Joomla//EN
BEGIN:VEVENT
UID:77fbc7b9cadcad2750bf22f16d498693
CATEGORIES:MuellKalender
SUMMARY:gruen
LOCATION:
DESCRIPTION;ENCODING=QUOTED-PRINTABLE:

DTSTAMP:20260421T224217
DTSTART:20160715T000000
DTEND:20160715T235959
SEQUENCE:0
TRANSP:OPAQUE
END:VEVENT
END:VCALENDAR