BEGIN:VCALENDAR
VERSION:2.0
PRODID:-//jEvents 1.5 for Joomla//EN
BEGIN:VEVENT
UID:a9f0a514f14ba2e540a11d7bbbd36045
CATEGORIES:MuellKalender
SUMMARY:schwarz, gruen
LOCATION:
DESCRIPTION;ENCODING=QUOTED-PRINTABLE:

DTSTAMP:20260422T001515
DTSTART:20160722T000000
DTEND:20160722T235959
SEQUENCE:0
TRANSP:OPAQUE
END:VEVENT
END:VCALENDAR