BEGIN:VCALENDAR
VERSION:2.0
PRODID:-//jEvents 1.5 for Joomla//EN
BEGIN:VEVENT
UID:a0d14fe15c421000a057d58c82a64e60
CATEGORIES:MuellKalender
SUMMARY:gruen, gelb, blau
LOCATION:
DESCRIPTION;ENCODING=QUOTED-PRINTABLE:

DTSTAMP:20260421T224829
DTSTART:20160729T000000
DTEND:20160729T235959
SEQUENCE:0
TRANSP:OPAQUE
END:VEVENT
END:VCALENDAR