BEGIN:VCALENDAR
VERSION:2.0
PRODID:-//jEvents 1.5 for Joomla//EN
BEGIN:VEVENT
UID:ba0244c6c2db31c4491effb6a7eaabd3
CATEGORIES:MuellKalender
SUMMARY:schwarz, gruen
LOCATION:
DESCRIPTION;ENCODING=QUOTED-PRINTABLE:

DTSTAMP:20260422T001631
DTSTART:20160805T000000
DTEND:20160805T235959
SEQUENCE:0
TRANSP:OPAQUE
END:VEVENT
END:VCALENDAR