BEGIN:VCALENDAR
VERSION:2.0
PRODID:-//jEvents 1.5 for Joomla//EN
BEGIN:VEVENT
UID:20c72ce90e16ae13c27edc6da13a4682
CATEGORIES:MuellKalender
SUMMARY:schwarz, gruen
LOCATION:
DESCRIPTION;ENCODING=QUOTED-PRINTABLE:

DTSTAMP:20260422T001601
DTSTART:20160819T000000
DTEND:20160819T235959
SEQUENCE:0
TRANSP:OPAQUE
END:VEVENT
END:VCALENDAR