BEGIN:VCALENDAR
VERSION:2.0
PRODID:-//jEvents 1.5 for Joomla//EN
BEGIN:VEVENT
UID:ad827f67d2c50c6c1469df4a24a38b32
CATEGORIES:MuellKalender
SUMMARY:gruen, gelb, blau
LOCATION:
DESCRIPTION;ENCODING=QUOTED-PRINTABLE:

DTSTAMP:20260422T001601
DTSTART:20160826T000000
DTEND:20160826T235959
SEQUENCE:0
TRANSP:OPAQUE
END:VEVENT
END:VCALENDAR