BEGIN:VCALENDAR
VERSION:2.0
PRODID:-//jEvents 1.5 for Joomla//EN
BEGIN:VEVENT
UID:6467a41d3335446243a4e48b999c061a
CATEGORIES:MuellKalender
SUMMARY:gruen, gelb, blau
LOCATION:
DESCRIPTION;ENCODING=QUOTED-PRINTABLE:

DTSTAMP:20260422T045527
DTSTART:20160923T000000
DTEND:20160923T235959
SEQUENCE:0
TRANSP:OPAQUE
END:VEVENT
END:VCALENDAR