BEGIN:VCALENDAR
VERSION:2.0
PRODID:-//jEvents 1.5 for Joomla//EN
BEGIN:VEVENT
UID:a1609a0ce1c4136a4671fcf7a1bef830
CATEGORIES:MuellKalender
SUMMARY:schwarz, gruen
LOCATION:
DESCRIPTION;ENCODING=QUOTED-PRINTABLE:

DTSTAMP:20260422T063816
DTSTART:20161014T000000
DTEND:20161014T235959
SEQUENCE:0
TRANSP:OPAQUE
END:VEVENT
END:VCALENDAR